BEGIN:VCALENDAR
VERSION:2.0
PRODID:-//Colegio Santo Ángel de la Guarda - ECPv6.15.11//NONSGML v1.0//EN
CALSCALE:GREGORIAN
METHOD:PUBLISH
X-WR-CALNAME:Colegio Santo Ángel de la Guarda
X-ORIGINAL-URL:https://angelinoscucuta.edu.co
X-WR-CALDESC:Eventos para Colegio Santo Ángel de la Guarda
REFRESH-INTERVAL;VALUE=DURATION:PT1H
X-Robots-Tag:noindex
X-PUBLISHED-TTL:PT1H
BEGIN:VTIMEZONE
TZID:UTC
BEGIN:STANDARD
TZOFFSETFROM:+0000
TZOFFSETTO:+0000
TZNAME:UTC
DTSTART:20250101T000000
END:STANDARD
END:VTIMEZONE
BEGIN:VEVENT
DTSTART;TZID=UTC:20260425T070000
DTEND;TZID=UTC:20260425T090000
DTSTAMP:20260425T105050
CREATED:20260415T123408Z
LAST-MODIFIED:20260415T123408Z
UID:4140-1777100400-1777107600@angelinoscucuta.edu.co
SUMMARY:Jornada pedagógica ”Cuidado del buen trato“
DESCRIPTION:
URL:https://angelinoscucuta.edu.co/event/jornada-pedagogica-cuidado-del-buen-trato/
END:VEVENT
BEGIN:VEVENT
DTSTART;TZID=UTC:20260425T093000
DTEND;TZID=UTC:20260425T103000
DTSTAMP:20260425T105050
CREATED:20260415T123442Z
LAST-MODIFIED:20260415T123442Z
UID:4142-1777109400-1777113000@angelinoscucuta.edu.co
SUMMARY:Capacitación SG-SST
DESCRIPTION:
URL:https://angelinoscucuta.edu.co/event/capacitacion-sg-sst/
END:VEVENT
END:VCALENDAR