BEGIN:VCALENDAR
VERSION:2.0
PRODID:-//Colegio Santo Ángel de la Guarda - ECPv6.15.11//NONSGML v1.0//EN
CALSCALE:GREGORIAN
METHOD:PUBLISH
X-ORIGINAL-URL:https://angelinoscucuta.edu.co
X-WR-CALDESC:Eventos para Colegio Santo Ángel de la Guarda
REFRESH-INTERVAL;VALUE=DURATION:PT1H
X-Robots-Tag:noindex
X-PUBLISHED-TTL:PT1H
BEGIN:VTIMEZONE
TZID:America/Bogota
BEGIN:STANDARD
TZOFFSETFROM:-0500
TZOFFSETTO:-0500
TZNAME:-05
DTSTART:20240101T000000
END:STANDARD
END:VTIMEZONE
BEGIN:VTIMEZONE
TZID:UTC
BEGIN:STANDARD
TZOFFSETFROM:+0000
TZOFFSETTO:+0000
TZNAME:UTC
DTSTART:20240101T000000
END:STANDARD
END:VTIMEZONE
BEGIN:VEVENT
DTSTART;TZID=America/Bogota:20250502T073000
DTEND;TZID=America/Bogota:20250502T083000
DTSTAMP:20260425T171425
CREATED:20250506T120251Z
LAST-MODIFIED:20250506T120300Z
UID:3073-1746171000-1746174600@angelinoscucuta.edu.co
SUMMARY:Eucaristía día del trabajador e inicio del mes Mariano
DESCRIPTION:
URL:https://angelinoscucuta.edu.co/event/eucaristia-dia-del-trabajador-e-inicio-del-mes-mariano/
END:VEVENT
BEGIN:VEVENT
DTSTART;TZID=America/Bogota:20250510T083000
DTEND;TZID=America/Bogota:20250510T093000
DTSTAMP:20260425T171425
CREATED:20250509T135539Z
LAST-MODIFIED:20250509T135539Z
UID:3109-1746865800-1746869400@angelinoscucuta.edu.co
SUMMARY:Jornada del buen trato para todo el personal
DESCRIPTION:
URL:https://angelinoscucuta.edu.co/event/jornada-del-buen-trato-para-todo-el-personal/
END:VEVENT
BEGIN:VEVENT
DTSTART;TZID=UTC:20250512T063000
DTEND;TZID=UTC:20250516T123000
DTSTAMP:20260425T171425
CREATED:20250506T120953Z
LAST-MODIFIED:20250506T120953Z
UID:3075-1747031400-1747398600@angelinoscucuta.edu.co
SUMMARY:Informe parcial II período
DESCRIPTION:
URL:https://angelinoscucuta.edu.co/event/informe-parcial-ii-periodo/
END:VEVENT
BEGIN:VEVENT
DTSTART;TZID=America/Bogota:20250515T060000
DTEND;TZID=America/Bogota:20250515T123000
DTSTAMP:20260425T171425
CREATED:20250509T135344Z
LAST-MODIFIED:20250509T144549Z
UID:3120-1747288800-1747312200@angelinoscucuta.edu.co
SUMMARY:Día del docente
DESCRIPTION:
URL:https://angelinoscucuta.edu.co/event/dia-del-docente/
END:VEVENT
BEGIN:VEVENT
DTSTART;TZID=America/Bogota:20250515T073000
DTEND;TZID=America/Bogota:20250517T123000
DTSTAMP:20260425T171425
CREATED:20250506T121156Z
LAST-MODIFIED:20250509T135022Z
UID:3077-1747294200-1747485000@angelinoscucuta.edu.co
SUMMARY:Encuentro Departamental de semilleros
DESCRIPTION:
URL:https://angelinoscucuta.edu.co/event/encuentro-departamental-de-semilleros/
END:VEVENT
BEGIN:VEVENT
DTSTART;TZID=America/Bogota:20250516T060000
DTEND;TZID=America/Bogota:20250516T123000
DTSTAMP:20260425T171425
CREATED:20250509T142004Z
LAST-MODIFIED:20250509T142004Z
UID:3122-1747375200-1747398600@angelinoscucuta.edu.co
SUMMARY:Jornada del buen trato con los estudiantes
DESCRIPTION:
URL:https://angelinoscucuta.edu.co/event/jornada-del-buen-trato-con-los-estudiantes/
END:VEVENT
BEGIN:VEVENT
DTSTART;TZID=America/Bogota:20250516T080000
DTEND;TZID=America/Bogota:20250516T123000
DTSTAMP:20260425T171425
CREATED:20250509T142110Z
LAST-MODIFIED:20250509T170720Z
UID:3124-1747382400-1747398600@angelinoscucuta.edu.co
SUMMARY:Inauguración fase intramural sección de primaria y bachillerato
DESCRIPTION:
URL:https://angelinoscucuta.edu.co/event/inauguracion-fase-intramural-seccion-de-primaria-y-bachillerato/
END:VEVENT
BEGIN:VEVENT
DTSTART;TZID=UTC:20250517T070000
DTEND;TZID=UTC:20250517T120000
DTSTAMP:20260425T171425
CREATED:20250509T170926Z
LAST-MODIFIED:20250509T170926Z
UID:3130-1747465200-1747483200@angelinoscucuta.edu.co
SUMMARY:Campamento teatral - sección de bachillerato
DESCRIPTION:
URL:https://angelinoscucuta.edu.co/event/campamento-teatral-seccion-de-bachillerato/
END:VEVENT
BEGIN:VEVENT
DTSTART;TZID=UTC:20250517T093000
DTEND;TZID=UTC:20250517T120000
DTSTAMP:20260425T171425
CREATED:20250509T171057Z
LAST-MODIFIED:20250509T171057Z
UID:3132-1747474200-1747483200@angelinoscucuta.edu.co
SUMMARY:Celebración onomástico de nuestra fundadora
DESCRIPTION:
URL:https://angelinoscucuta.edu.co/event/celebracion-onomastico-de-nuestra-fundadora/
END:VEVENT
BEGIN:VEVENT
DTSTART;TZID=America/Bogota:20250520T080000
DTEND;TZID=America/Bogota:20250520T123000
DTSTAMP:20260425T171425
CREATED:20250509T171922Z
LAST-MODIFIED:20250509T171922Z
UID:3134-1747728000-1747744200@angelinoscucuta.edu.co
SUMMARY:Encuentro experiencial Universidad Simón Bolívar
DESCRIPTION:
URL:https://angelinoscucuta.edu.co/event/encuentro-experiencial-universidad-simon-bolivar/
END:VEVENT
BEGIN:VEVENT
DTSTART;TZID=America/Bogota:20250528T080000
DTEND;TZID=America/Bogota:20250528T100000
DTSTAMP:20260425T171425
CREATED:20250509T173015Z
LAST-MODIFIED:20250509T173109Z
UID:3143-1748419200-1748426400@angelinoscucuta.edu.co
SUMMARY:Cierre del mes Mariano
DESCRIPTION:
URL:https://angelinoscucuta.edu.co/event/cierre-del-mes-mariano/
END:VEVENT
BEGIN:VEVENT
DTSTART;TZID=America/Bogota:20250530T080000
DTEND;TZID=America/Bogota:20250530T123000
DTSTAMP:20260425T171425
CREATED:20250509T172247Z
LAST-MODIFIED:20250530T180346Z
UID:3140-1748592000-1748608200@angelinoscucuta.edu.co
SUMMARY:Celebración día de la madre- sección de preescolar
DESCRIPTION:
URL:https://angelinoscucuta.edu.co/event/celebracion-dia-de-la-madre-seccion-de-primaria-bachillerato/
END:VEVENT
END:VCALENDAR