BEGIN:VCALENDAR
VERSION:2.0
PRODID:-//Colegio Santo Ángel de la Guarda - ECPv6.15.11//NONSGML v1.0//EN
CALSCALE:GREGORIAN
METHOD:PUBLISH
X-WR-CALNAME:Colegio Santo Ángel de la Guarda
X-ORIGINAL-URL:https://angelinoscucuta.edu.co
X-WR-CALDESC:Eventos para Colegio Santo Ángel de la Guarda
REFRESH-INTERVAL;VALUE=DURATION:PT1H
X-Robots-Tag:noindex
X-PUBLISHED-TTL:PT1H
BEGIN:VTIMEZONE
TZID:UTC
BEGIN:STANDARD
TZOFFSETFROM:+0000
TZOFFSETTO:+0000
TZNAME:UTC
DTSTART:20240101T000000
END:STANDARD
END:VTIMEZONE
BEGIN:VEVENT
DTSTART;VALUE=DATE:20250707
DTEND;VALUE=DATE:20250708
DTSTAMP:20260425T142215
CREATED:20250709T114006Z
LAST-MODIFIED:20250709T114006Z
UID:3250-1751846400-1751932799@angelinoscucuta.edu.co
SUMMARY:Inicio del III período académico.
DESCRIPTION:
URL:https://angelinoscucuta.edu.co/event/inicio-del-iii-periodo-academico/
END:VEVENT
BEGIN:VEVENT
DTSTART;TZID=UTC:20250710T070000
DTEND;TZID=UTC:20250710T200000
DTSTAMP:20260425T142215
CREATED:20250709T112123Z
LAST-MODIFIED:20250709T112123Z
UID:3228-1752130800-1752177600@angelinoscucuta.edu.co
SUMMARY:Eucaristía de 6A.
DESCRIPTION:
URL:https://angelinoscucuta.edu.co/event/eucaristia-de-6a/
END:VEVENT
BEGIN:VEVENT
DTSTART;TZID=UTC:20250712T070000
DTEND;TZID=UTC:20250712T120000
DTSTAMP:20260425T142215
CREATED:20250709T112319Z
LAST-MODIFIED:20250709T112319Z
UID:3230-1752303600-1752321600@angelinoscucuta.edu.co
SUMMARY:Entrega de informe académico/comportamental del II período.
DESCRIPTION:
URL:https://angelinoscucuta.edu.co/event/entrega-de-informe-academico-comportamental-del-ii-periodo/
END:VEVENT
BEGIN:VEVENT
DTSTART;VALUE=DATE:20250714
DTEND;VALUE=DATE:20250715
DTSTAMP:20260425T142215
CREATED:20250709T112555Z
LAST-MODIFIED:20250709T112555Z
UID:3232-1752451200-1752537599@angelinoscucuta.edu.co
SUMMARY:Nacimiento del fundador “Luis Antonio Ormières”
DESCRIPTION:
URL:https://angelinoscucuta.edu.co/event/nacimiento-del-fundador-luis-antonio-ormieres/
END:VEVENT
BEGIN:VEVENT
DTSTART;TZID=UTC:20250715T060000
DTEND;TZID=UTC:20250715T123000
DTSTAMP:20260425T142215
CREATED:20250709T112732Z
LAST-MODIFIED:20250709T112732Z
UID:3234-1752559200-1752582600@angelinoscucuta.edu.co
SUMMARY:Convivencia 3A.
DESCRIPTION:
URL:https://angelinoscucuta.edu.co/event/convivencia-3a/
END:VEVENT
BEGIN:VEVENT
DTSTART;TZID=UTC:20250715T070000
DTEND;TZID=UTC:20250715T080000
DTSTAMP:20260425T142215
CREATED:20250709T112810Z
LAST-MODIFIED:20250709T112810Z
UID:3236-1752562800-1752566400@angelinoscucuta.edu.co
SUMMARY:Eucaristía grado 4A.
DESCRIPTION:
URL:https://angelinoscucuta.edu.co/event/eucaristia-grado-4a/
END:VEVENT
BEGIN:VEVENT
DTSTART;TZID=UTC:20250717T060000
DTEND;TZID=UTC:20250717T123000
DTSTAMP:20260425T142215
CREATED:20250709T112918Z
LAST-MODIFIED:20250709T112918Z
UID:3238-1752732000-1752755400@angelinoscucuta.edu.co
SUMMARY:Convivencia 3B.
DESCRIPTION:
URL:https://angelinoscucuta.edu.co/event/convivencia-3b/
END:VEVENT
BEGIN:VEVENT
DTSTART;TZID=UTC:20250717T070000
DTEND;TZID=UTC:20250717T080000
DTSTAMP:20260425T142215
CREATED:20250709T112955Z
LAST-MODIFIED:20250709T112955Z
UID:3240-1752735600-1752739200@angelinoscucuta.edu.co
SUMMARY:Eucaristía grado 4B.
DESCRIPTION:
URL:https://angelinoscucuta.edu.co/event/eucaristia-grado-4b/
END:VEVENT
BEGIN:VEVENT
DTSTART;TZID=UTC:20250718T060000
DTEND;TZID=UTC:20250718T080000
DTSTAMP:20260425T142215
CREATED:20250709T113217Z
LAST-MODIFIED:20250709T113217Z
UID:3244-1752818400-1752825600@angelinoscucuta.edu.co
SUMMARY:Izada de bandera ”grito de independencia” grado 4° y 9°.
DESCRIPTION:
URL:https://angelinoscucuta.edu.co/event/izada-de-bandera-grito-de-independencia-grado-4-y-9/
END:VEVENT
BEGIN:VEVENT
DTSTART;TZID=UTC:20250719T070000
DTEND;TZID=UTC:20250719T120000
DTSTAMP:20260425T142215
CREATED:20250709T113112Z
LAST-MODIFIED:20250709T113112Z
UID:3242-1752908400-1752926400@angelinoscucuta.edu.co
SUMMARY:Campamento teatral (sección de bachillerato).
DESCRIPTION:
URL:https://angelinoscucuta.edu.co/event/campamento-teatral-seccion-de-bachillerato-2/
END:VEVENT
BEGIN:VEVENT
DTSTART;TZID=UTC:20250721T060000
DTEND;TZID=UTC:20250721T080000
DTSTAMP:20260425T142215
CREATED:20250709T113642Z
LAST-MODIFIED:20250709T113642Z
UID:3248-1753077600-1753084800@angelinoscucuta.edu.co
SUMMARY:Recuperación de Lengua Castellana – Geometría.
DESCRIPTION:
URL:https://angelinoscucuta.edu.co/event/recuperacion-de-lengua-castellana-geometria/
END:VEVENT
BEGIN:VEVENT
DTSTART;TZID=UTC:20250721T070000
DTEND;TZID=UTC:20250731T080000
DTSTAMP:20260425T142215
CREATED:20250709T113523Z
LAST-MODIFIED:20250709T113523Z
UID:3246-1753081200-1753948800@angelinoscucuta.edu.co
SUMMARY:Novena María Reina de los Ángeles.
DESCRIPTION:
URL:https://angelinoscucuta.edu.co/event/novena-maria-reina-de-los-angeles/
END:VEVENT
BEGIN:VEVENT
DTSTART;TZID=UTC:20250722T060000
DTEND;TZID=UTC:20250722T080000
DTSTAMP:20260425T142215
CREATED:20250709T114401Z
LAST-MODIFIED:20250709T114401Z
UID:3256-1753164000-1753171200@angelinoscucuta.edu.co
SUMMARY:Recuperación de Sociales - Física.
DESCRIPTION:
URL:https://angelinoscucuta.edu.co/event/recuperacion-de-sociales-fisica/
END:VEVENT
BEGIN:VEVENT
DTSTART;TZID=UTC:20250722T060000
DTEND;TZID=UTC:20250722T123000
DTSTAMP:20260425T142215
CREATED:20250709T114236Z
LAST-MODIFIED:20250709T114236Z
UID:3252-1753164000-1753187400@angelinoscucuta.edu.co
SUMMARY:Convivencia 2A.
DESCRIPTION:
URL:https://angelinoscucuta.edu.co/event/convivencia-2a/
END:VEVENT
BEGIN:VEVENT
DTSTART;TZID=UTC:20250722T070000
DTEND;TZID=UTC:20250722T080000
DTSTAMP:20260425T142215
CREATED:20250709T114318Z
LAST-MODIFIED:20250709T114318Z
UID:3254-1753167600-1753171200@angelinoscucuta.edu.co
SUMMARY:Eucaristía grado 3A.
DESCRIPTION:
URL:https://angelinoscucuta.edu.co/event/eucaristia-grado-3a/
END:VEVENT
BEGIN:VEVENT
DTSTART;VALUE=DATE:20250723
DTEND;VALUE=DATE:20250724
DTSTAMP:20260425T142215
CREATED:20250710T123804Z
LAST-MODIFIED:20250710T123804Z
UID:3283-1753228800-1753315199@angelinoscucuta.edu.co
SUMMARY:Red de EDUCADORES.
DESCRIPTION:
URL:https://angelinoscucuta.edu.co/event/red-de-educadores/
END:VEVENT
BEGIN:VEVENT
DTSTART;TZID=UTC:20250723T060000
DTEND;TZID=UTC:20250723T080000
DTSTAMP:20260425T142215
CREATED:20250709T114534Z
LAST-MODIFIED:20250709T114534Z
UID:3258-1753250400-1753257600@angelinoscucuta.edu.co
SUMMARY:Recuperación de Matemáticas - Filosofía.
DESCRIPTION:
URL:https://angelinoscucuta.edu.co/event/recuperacion-de-matematicas-filosofia/
END:VEVENT
BEGIN:VEVENT
DTSTART;TZID=UTC:20250723T073000
DTEND;TZID=UTC:20250723T090000
DTSTAMP:20260425T142215
CREATED:20250709T114638Z
LAST-MODIFIED:20250709T114638Z
UID:3260-1753255800-1753261200@angelinoscucuta.edu.co
SUMMARY:Izada de bandera “grito de independencia” - Sección del preescolar.
DESCRIPTION:
URL:https://angelinoscucuta.edu.co/event/izada-de-bandera-grito-de-independencia-seccion-del-preescolar/
END:VEVENT
BEGIN:VEVENT
DTSTART;VALUE=DATE:20250724
DTEND;VALUE=DATE:20250725
DTSTAMP:20260425T142215
CREATED:20250709T114927Z
LAST-MODIFIED:20250709T114927Z
UID:3266-1753315200-1753401599@angelinoscucuta.edu.co
SUMMARY:Recuperación de Biología e inglés.
DESCRIPTION:
URL:https://angelinoscucuta.edu.co/event/recuperacion-de-biologia-e-ingles/
END:VEVENT
BEGIN:VEVENT
DTSTART;TZID=UTC:20250724T060000
DTEND;TZID=UTC:20250724T123000
DTSTAMP:20260425T142215
CREATED:20250709T114722Z
LAST-MODIFIED:20250709T114722Z
UID:3262-1753336800-1753360200@angelinoscucuta.edu.co
SUMMARY:Convivencia 2B.
DESCRIPTION:
URL:https://angelinoscucuta.edu.co/event/convivencia-2b/
END:VEVENT
BEGIN:VEVENT
DTSTART;TZID=UTC:20250724T070000
DTEND;TZID=UTC:20250724T080000
DTSTAMP:20260425T142215
CREATED:20250709T114758Z
LAST-MODIFIED:20250709T114758Z
UID:3264-1753340400-1753344000@angelinoscucuta.edu.co
SUMMARY:Eucaristía grado 3B.
DESCRIPTION:
URL:https://angelinoscucuta.edu.co/event/eucaristia-grado-3b/
END:VEVENT
BEGIN:VEVENT
DTSTART;VALUE=DATE:20250725
DTEND;VALUE=DATE:20250726
DTSTAMP:20260425T142215
CREATED:20250709T115149Z
LAST-MODIFIED:20250709T115149Z
UID:3272-1753401600-1753487999@angelinoscucuta.edu.co
SUMMARY:Leo Radio.
DESCRIPTION:
URL:https://angelinoscucuta.edu.co/event/leo-radio/
END:VEVENT
BEGIN:VEVENT
DTSTART;TZID=UTC:20250725T070000
DTEND;TZID=UTC:20250725T090000
DTSTAMP:20260425T142215
CREATED:20250709T115118Z
LAST-MODIFIED:20250709T115118Z
UID:3270-1753426800-1753434000@angelinoscucuta.edu.co
SUMMARY:Taller de padres sección del preescolar (jugar al ayer\, viviendo el hoy).
DESCRIPTION:
URL:https://angelinoscucuta.edu.co/event/taller-de-padres-seccion-del-preescolar-jugar-al-ayer-viviendo-el-hoy/
END:VEVENT
BEGIN:VEVENT
DTSTART;VALUE=DATE:20250726
DTEND;VALUE=DATE:20250727
DTSTAMP:20260425T142215
CREATED:20250710T124123Z
LAST-MODIFIED:20250710T124123Z
UID:3285-1753488000-1753574399@angelinoscucuta.edu.co
SUMMARY:Recuperación de Estadística - Química.
DESCRIPTION:
URL:https://angelinoscucuta.edu.co/event/recuperacion-de-estadistica-quimica-2/
END:VEVENT
BEGIN:VEVENT
DTSTART;VALUE=DATE:20250726
DTEND;VALUE=DATE:20250727
DTSTAMP:20260425T142215
CREATED:20250710T124205Z
LAST-MODIFIED:20250710T124205Z
UID:3287-1753488000-1753574399@angelinoscucuta.edu.co
SUMMARY:Recuperación de (lectura crítica\, religión\, artística - dibujo técnico\, música\, educación física\, ética).
DESCRIPTION:
URL:https://angelinoscucuta.edu.co/event/recuperacion-de-lectura-critica-religion-artistica-dibujo-tecnico-musica-educacion-fisica-etica/
END:VEVENT
BEGIN:VEVENT
DTSTART;VALUE=DATE:20250726
DTEND;VALUE=DATE:20250727
DTSTAMP:20260425T142215
CREATED:20250710T124233Z
LAST-MODIFIED:20250710T124233Z
UID:3289-1753488000-1753574399@angelinoscucuta.edu.co
SUMMARY:Capacitación SST.
DESCRIPTION:
URL:https://angelinoscucuta.edu.co/event/capacitacion-sst/
END:VEVENT
BEGIN:VEVENT
DTSTART;TZID=UTC:20250729T060000
DTEND;TZID=UTC:20250729T123000
DTSTAMP:20260425T142215
CREATED:20250709T115851Z
LAST-MODIFIED:20250805T123935Z
UID:3275-1753768800-1753792200@angelinoscucuta.edu.co
SUMMARY:Convivencia 2°C
DESCRIPTION:
URL:https://angelinoscucuta.edu.co/event/convivencia-2c/
END:VEVENT
BEGIN:VEVENT
DTSTART;TZID=UTC:20250729T070000
DTEND;TZID=UTC:20250729T080000
DTSTAMP:20260425T142215
CREATED:20250709T115939Z
LAST-MODIFIED:20250805T123920Z
UID:3277-1753772400-1753776000@angelinoscucuta.edu.co
SUMMARY:Celebración de la palabra 2°A
DESCRIPTION:
URL:https://angelinoscucuta.edu.co/event/celebracion-de-la-palabra-grado-2a/
END:VEVENT
BEGIN:VEVENT
DTSTART;TZID=UTC:20250731T060000
DTEND;TZID=UTC:20250731T123000
DTSTAMP:20260425T142215
CREATED:20250709T120016Z
LAST-MODIFIED:20250709T120016Z
UID:3279-1753941600-1753965000@angelinoscucuta.edu.co
SUMMARY:Convivencia 1A.
DESCRIPTION:
URL:https://angelinoscucuta.edu.co/event/convivencia-1a/
END:VEVENT
BEGIN:VEVENT
DTSTART;TZID=UTC:20250731T070000
DTEND;TZID=UTC:20250731T080000
DTSTAMP:20260425T142215
CREATED:20250709T120043Z
LAST-MODIFIED:20250805T123901Z
UID:3281-1753945200-1753948800@angelinoscucuta.edu.co
SUMMARY:Celebración de la palabra 2°B.
DESCRIPTION:
URL:https://angelinoscucuta.edu.co/event/celebracion-de-la-palabra-grado-2b/
END:VEVENT
END:VCALENDAR