BEGIN:VCALENDAR
VERSION:2.0
PRODID:-//Colegio Santo Ángel de la Guarda - ECPv6.15.11//NONSGML v1.0//EN
CALSCALE:GREGORIAN
METHOD:PUBLISH
X-ORIGINAL-URL:https://angelinoscucuta.edu.co
X-WR-CALDESC:Eventos para Colegio Santo Ángel de la Guarda
REFRESH-INTERVAL;VALUE=DURATION:PT1H
X-Robots-Tag:noindex
X-PUBLISHED-TTL:PT1H
BEGIN:VTIMEZONE
TZID:UTC
BEGIN:STANDARD
TZOFFSETFROM:+0000
TZOFFSETTO:+0000
TZNAME:UTC
DTSTART:20250101T000000
END:STANDARD
END:VTIMEZONE
BEGIN:VEVENT
DTSTART;TZID=UTC:20260302T070000
DTEND;TZID=UTC:20260302T080000
DTSTAMP:20260419T125553
CREATED:20260316T112118Z
LAST-MODIFIED:20260316T112118Z
UID:3959-1772434800-1772438400@angelinoscucuta.edu.co
SUMMARY:Taller Undécimo A (3H) Fortaleciendo Estilos de Aprendizaje
DESCRIPTION:
URL:https://angelinoscucuta.edu.co/event/taller-undecimo-a-3h-fortaleciendo-estilos-de-aprendizaje-2/
END:VEVENT
BEGIN:VEVENT
DTSTART;TZID=UTC:20260302T073000
DTEND;TZID=UTC:20260307T083000
DTSTAMP:20260419T125553
CREATED:20260316T111725Z
LAST-MODIFIED:20260316T111725Z
UID:3953-1772436600-1772872200@angelinoscucuta.edu.co
SUMMARY:Iniciación de los murales por el grado 10° en el coliseo 2.
DESCRIPTION:
URL:https://angelinoscucuta.edu.co/event/iniciacion-de-los-murales-por-el-grado-10-en-el-coliseo-2/
END:VEVENT
BEGIN:VEVENT
DTSTART;TZID=UTC:20260302T073000
DTEND;TZID=UTC:20260308T083000
DTSTAMP:20260419T125553
CREATED:20260316T111616Z
LAST-MODIFIED:20260316T111754Z
UID:3951-1772436600-1772958600@angelinoscucuta.edu.co
SUMMARY:Campaña del Reciclaje “TRAE TU PEP”
DESCRIPTION:
URL:https://angelinoscucuta.edu.co/event/campana-del-reciclaje-trae-tu-pep/
END:VEVENT
BEGIN:VEVENT
DTSTART;TZID=UTC:20260302T083000
DTEND;TZID=UTC:20260327T093000
DTSTAMP:20260419T125553
CREATED:20260316T111852Z
LAST-MODIFIED:20260316T111852Z
UID:3955-1772440200-1774603800@angelinoscucuta.edu.co
SUMMARY:Proyecto de emociones “Abrazando lo que siento”
DESCRIPTION:
URL:https://angelinoscucuta.edu.co/event/proyecto-de-emociones-abrazando-lo-que-siento/
END:VEVENT
BEGIN:VEVENT
DTSTART;TZID=UTC:20260302T083000
DTEND;TZID=UTC:20260327T093000
DTSTAMP:20260419T125553
CREATED:20260316T111939Z
LAST-MODIFIED:20260316T111939Z
UID:3957-1772440200-1774603800@angelinoscucuta.edu.co
SUMMARY:Inicio de elaboración de proyectos de robótica
DESCRIPTION:
URL:https://angelinoscucuta.edu.co/event/inicio-de-elaboracion-de-proyectos-de-robotica/
END:VEVENT
BEGIN:VEVENT
DTSTART;TZID=UTC:20260303T063000
DTEND;TZID=UTC:20260303T073000
DTSTAMP:20260419T125553
CREATED:20260316T112336Z
LAST-MODIFIED:20260316T112336Z
UID:3963-1772519400-1772523000@angelinoscucuta.edu.co
SUMMARY:Taller Décimo A (1H) Fortaleciendo Estilos de Aprendizaje
DESCRIPTION:
URL:https://angelinoscucuta.edu.co/event/taller-decimo-a-1h-fortaleciendo-estilos-de-aprendizaje/
END:VEVENT
BEGIN:VEVENT
DTSTART;TZID=UTC:20260303T063000
DTEND;TZID=UTC:20260303T123000
DTSTAMP:20260419T125553
CREATED:20260316T112209Z
LAST-MODIFIED:20260316T112428Z
UID:3961-1772519400-1772541000@angelinoscucuta.edu.co
SUMMARY:Simulacro interno grado 11°\, prueba saber
DESCRIPTION:
URL:https://angelinoscucuta.edu.co/event/simulacro-interno-grado-11-prueba-saber/
END:VEVENT
BEGIN:VEVENT
DTSTART;TZID=UTC:20260304T093000
DTEND;TZID=UTC:20260304T103000
DTSTAMP:20260419T125553
CREATED:20260316T112538Z
LAST-MODIFIED:20260316T112538Z
UID:3965-1772616600-1772620200@angelinoscucuta.edu.co
SUMMARY:Taller Décimo B (4H) Fortaleciendo Estilos de Aprendizaje
DESCRIPTION:
URL:https://angelinoscucuta.edu.co/event/taller-decimo-b-4h-fortaleciendo-estilos-de-aprendizaje/
END:VEVENT
BEGIN:VEVENT
DTSTART;VALUE=DATE:20260305
DTEND;VALUE=DATE:20260308
DTSTAMP:20260419T125553
CREATED:20260316T113553Z
LAST-MODIFIED:20260316T113553Z
UID:3967-1772668800-1772927999@angelinoscucuta.edu.co
SUMMARY:Retiros Espirituales (docentes- personal de servicios y administrativos)
DESCRIPTION:
URL:https://angelinoscucuta.edu.co/event/retiros-espirituales-docentes-personal-de-servicios-y-administrativos/
END:VEVENT
BEGIN:VEVENT
DTSTART;TZID=UTC:20260309T063000
DTEND;TZID=UTC:20260309T073000
DTSTAMP:20260419T125553
CREATED:20260316T113803Z
LAST-MODIFIED:20260316T113803Z
UID:3971-1773037800-1773041400@angelinoscucuta.edu.co
SUMMARY:Taller Herramientas Emocionales (1H) grado 1A
DESCRIPTION:
URL:https://angelinoscucuta.edu.co/event/taller-herramientas-emocionales-1h-grado-1a/
END:VEVENT
BEGIN:VEVENT
DTSTART;TZID=UTC:20260309T093000
DTEND;TZID=UTC:20260325T103000
DTSTAMP:20260419T125553
CREATED:20260316T113700Z
LAST-MODIFIED:20260316T113700Z
UID:3969-1773048600-1774434600@angelinoscucuta.edu.co
SUMMARY:Programación de juegos intramurales de la sección primaria y bachillerato
DESCRIPTION:
URL:https://angelinoscucuta.edu.co/event/programacion-de-juegos-intramurales-de-la-seccion-primaria-y-bachillerato/
END:VEVENT
BEGIN:VEVENT
DTSTART;TZID=UTC:20260310T063000
DTEND;TZID=UTC:20260310T123000
DTSTAMP:20260419T125553
CREATED:20260316T113908Z
LAST-MODIFIED:20260316T113908Z
UID:3973-1773124200-1773145800@angelinoscucuta.edu.co
SUMMARY:Convivencia grado 8A
DESCRIPTION:
URL:https://angelinoscucuta.edu.co/event/convivencia-grado-8a/
END:VEVENT
BEGIN:VEVENT
DTSTART;TZID=UTC:20260310T070000
DTEND;TZID=UTC:20260310T080000
DTSTAMP:20260419T125553
CREATED:20260316T114008Z
LAST-MODIFIED:20260316T114008Z
UID:3975-1773126000-1773129600@angelinoscucuta.edu.co
SUMMARY:Taller Herramientas Emocionales (2H) grado 1B
DESCRIPTION:
URL:https://angelinoscucuta.edu.co/event/taller-herramientas-emocionales-2h-grado-1b/
END:VEVENT
BEGIN:VEVENT
DTSTART;TZID=UTC:20260310T093000
DTEND;TZID=UTC:20260310T103000
DTSTAMP:20260419T125553
CREATED:20260316T114200Z
LAST-MODIFIED:20260316T114200Z
UID:3977-1773135000-1773138600@angelinoscucuta.edu.co
SUMMARY:Taller Séptimo A (4H) Mejorando la convivencia: Respeto y Tolerancia
DESCRIPTION:
URL:https://angelinoscucuta.edu.co/event/taller-septimo-a-4h-mejorando-la-convivencia-respeto-y-tolerancia/
END:VEVENT
BEGIN:VEVENT
DTSTART;TZID=UTC:20260311T073000
DTEND;TZID=UTC:20260311T083000
DTSTAMP:20260419T125553
CREATED:20260316T114348Z
LAST-MODIFIED:20260316T114348Z
UID:3981-1773214200-1773217800@angelinoscucuta.edu.co
SUMMARY:Taller Herramientas Emocionales (2H) grado 1C
DESCRIPTION:
URL:https://angelinoscucuta.edu.co/event/taller-herramientas-emocionales-2h-grado-1c/
END:VEVENT
BEGIN:VEVENT
DTSTART;TZID=UTC:20260311T103000
DTEND;TZID=UTC:20260311T113000
DTSTAMP:20260419T125553
CREATED:20260316T114254Z
LAST-MODIFIED:20260316T114254Z
UID:3979-1773225000-1773228600@angelinoscucuta.edu.co
SUMMARY:Taller Sexto A (5H) Incentivando el buen trato\, cero violencia
DESCRIPTION:
URL:https://angelinoscucuta.edu.co/event/taller-sexto-a-5h-incentivando-el-buen-trato-cero-violencia/
END:VEVENT
BEGIN:VEVENT
DTSTART;TZID=UTC:20260312T063000
DTEND;TZID=UTC:20260312T073000
DTSTAMP:20260419T125553
CREATED:20260316T114700Z
LAST-MODIFIED:20260316T114700Z
UID:3989-1773297000-1773300600@angelinoscucuta.edu.co
SUMMARY:Taller Noveno A (1H) Fortaleciendo Estilos de Aprendizaje
DESCRIPTION:
URL:https://angelinoscucuta.edu.co/event/taller-noveno-a-1h-fortaleciendo-estilos-de-aprendizaje/
END:VEVENT
BEGIN:VEVENT
DTSTART;TZID=UTC:20260312T063000
DTEND;TZID=UTC:20260312T123000
DTSTAMP:20260419T125553
CREATED:20260316T114426Z
LAST-MODIFIED:20260316T114426Z
UID:3983-1773297000-1773318600@angelinoscucuta.edu.co
SUMMARY:Convivencia grado 8B
DESCRIPTION:
URL:https://angelinoscucuta.edu.co/event/convivencia-grado-8b/
END:VEVENT
BEGIN:VEVENT
DTSTART;TZID=UTC:20260312T073000
DTEND;TZID=UTC:20260312T083000
DTSTAMP:20260419T125553
CREATED:20260316T114627Z
LAST-MODIFIED:20260316T114627Z
UID:3987-1773300600-1773304200@angelinoscucuta.edu.co
SUMMARY:Taller Herramientas Emocionales (2H) grado 2A
DESCRIPTION:
URL:https://angelinoscucuta.edu.co/event/taller-herramientas-emocionales-2h-grado-2a/
END:VEVENT
BEGIN:VEVENT
DTSTART;TZID=UTC:20260312T090000
DTEND;TZID=UTC:20260312T103000
DTSTAMP:20260419T125553
CREATED:20260316T114516Z
LAST-MODIFIED:20260316T114516Z
UID:3985-1773306000-1773311400@angelinoscucuta.edu.co
SUMMARY:Reunión de rectores Colegios de Colombia y coordinadora apostolado Hna Tatiana
DESCRIPTION:
URL:https://angelinoscucuta.edu.co/event/reunion-de-rectores-colegios-de-colombia-y-coordinadora-apostolado-hna-tatiana/
END:VEVENT
BEGIN:VEVENT
DTSTART;TZID=UTC:20260313T063000
DTEND;TZID=UTC:20260313T073000
DTSTAMP:20260419T125553
CREATED:20260316T115428Z
LAST-MODIFIED:20260316T115428Z
UID:3993-1773383400-1773387000@angelinoscucuta.edu.co
SUMMARY:Izada de bandera - Conmemoración de la batalla de Cúcuta y posesión del Gobierno Escolar
DESCRIPTION:
URL:https://angelinoscucuta.edu.co/event/izada-de-bandera-conmemoracion-de-la-batalla-de-cucuta-y-posesion-del-gobierno-escolar/
END:VEVENT
BEGIN:VEVENT
DTSTART;TZID=UTC:20260313T063000
DTEND;TZID=UTC:20260313T073000
DTSTAMP:20260419T125553
CREATED:20260316T123706Z
LAST-MODIFIED:20260316T123706Z
UID:3995-1773383400-1773387000@angelinoscucuta.edu.co
SUMMARY:Taller Herramientas Emocionales (1H) grado 2C
DESCRIPTION:
URL:https://angelinoscucuta.edu.co/event/taller-herramientas-emocionales-1h-grado-2c/
END:VEVENT
BEGIN:VEVENT
DTSTART;TZID=UTC:20260313T073000
DTEND;TZID=UTC:20260313T083000
DTSTAMP:20260419T125553
CREATED:20260316T115331Z
LAST-MODIFIED:20260316T115331Z
UID:3991-1773387000-1773390600@angelinoscucuta.edu.co
SUMMARY:Talleres de padres “ÁNGELES EN FAMILIA: LLENO DE LUZ Y AMOR”\, Sección del preescolar
DESCRIPTION:
URL:https://angelinoscucuta.edu.co/event/talleres-de-padres-angeles-en-familia-lleno-de-luz-y-amor-seccion-del-preescolar/
END:VEVENT
BEGIN:VEVENT
DTSTART;TZID=UTC:20260314T060000
DTEND;TZID=UTC:20260314T110000
DTSTAMP:20260419T125553
CREATED:20260316T123742Z
LAST-MODIFIED:20260316T123742Z
UID:3998-1773468000-1773486000@angelinoscucuta.edu.co
SUMMARY:Preicfes 11°
DESCRIPTION:
URL:https://angelinoscucuta.edu.co/event/preicfes-11-5/
END:VEVENT
BEGIN:VEVENT
DTSTART;TZID=UTC:20260314T113000
DTEND;TZID=UTC:20260314T140000
DTSTAMP:20260419T125553
CREATED:20260316T123827Z
LAST-MODIFIED:20260316T123827Z
UID:4000-1773487800-1773496800@angelinoscucuta.edu.co
SUMMARY:Celebración del día del hombre y la mujer (personal del colegio)
DESCRIPTION:
URL:https://angelinoscucuta.edu.co/event/celebracion-del-dia-del-hombre-y-la-mujer-personal-del-colegio/
END:VEVENT
BEGIN:VEVENT
DTSTART;TZID=UTC:20260316T063000
DTEND;TZID=UTC:20260316T073000
DTSTAMP:20260419T125553
CREATED:20260316T124127Z
LAST-MODIFIED:20260316T124127Z
UID:4002-1773642600-1773646200@angelinoscucuta.edu.co
SUMMARY:Taller Herramientas Emocionales (1H) grado 2B
DESCRIPTION:
URL:https://angelinoscucuta.edu.co/event/taller-herramientas-emocionales-1h-grado-2b/
END:VEVENT
BEGIN:VEVENT
DTSTART;TZID=UTC:20260316T083000
DTEND;TZID=UTC:20260316T093000
DTSTAMP:20260419T125553
CREATED:20260316T124224Z
LAST-MODIFIED:20260316T124224Z
UID:4004-1773649800-1773653400@angelinoscucuta.edu.co
SUMMARY:Aplicación prueba orientación vocacional Undécimo A
DESCRIPTION:
URL:https://angelinoscucuta.edu.co/event/aplicacion-prueba-orientacion-vocacional-undecimo-a/
END:VEVENT
BEGIN:VEVENT
DTSTART;TZID=UTC:20260316T093000
DTEND;TZID=UTC:20260316T103000
DTSTAMP:20260419T125553
CREATED:20260316T124302Z
LAST-MODIFIED:20260316T124302Z
UID:4006-1773653400-1773657000@angelinoscucuta.edu.co
SUMMARY:Sain Patrick’s Day
DESCRIPTION:
URL:https://angelinoscucuta.edu.co/event/sain-patricks-day/
END:VEVENT
BEGIN:VEVENT
DTSTART;TZID=UTC:20260317T073000
DTEND;TZID=UTC:20260317T083000
DTSTAMP:20260419T125553
CREATED:20260316T124336Z
LAST-MODIFIED:20260316T124336Z
UID:4008-1773732600-1773736200@angelinoscucuta.edu.co
SUMMARY:Celebración del día de la mujer y el hombre- sección del preescolar
DESCRIPTION:
URL:https://angelinoscucuta.edu.co/event/celebracion-del-dia-de-la-mujer-y-el-hombre-seccion-del-preescolar/
END:VEVENT
BEGIN:VEVENT
DTSTART;TZID=UTC:20260317T073000
DTEND;TZID=UTC:20260317T083000
DTSTAMP:20260419T125553
CREATED:20260316T124455Z
LAST-MODIFIED:20260316T124455Z
UID:4010-1773732600-1773736200@angelinoscucuta.edu.co
SUMMARY:Taller Herramientas Emocionales (2H) grado 3A
DESCRIPTION:
URL:https://angelinoscucuta.edu.co/event/taller-herramientas-emocionales-2h-grado-3a/
END:VEVENT
END:VCALENDAR